BEGIN:VCALENDAR
VERSION:2.0
PRODID:-//wp-events-plugin.com//7.2.3.1//EN
TZID:America/New_York
X-WR-TIMEZONE:America/New_York
BEGIN:VEVENT
UID:251@erscc.com
DTSTART:20220522T120000Z
DTEND:20220522T200000Z
DTSTAMP:20220405T211348Z
URL:https://www.erscc.com/events/autocross-may-20-2022-st-lucie-fairground
 s/
SUMMARY:Autocross - May 22\, 2022 - St. Lucie Fairgrounds
DESCRIPTION:Autocross - May 22\, 2022. Saint Lucie County Fairgrounds.\n\nO
 nline Registration is open at DriverRegistration.com\n\n&nbsp\;\n\nGates o
 pen at 7:00 AM...\n\nCheck in and On-site Registration opens at 8:00 AM\n\
 nIf you do not make it to the site by 9:00 AM and check in with registrati
 on\, you not be able to run. Your entry will become a rollover for a futur
 e event.
LOCATION:Saint Lucie County Fairgrounds\, 15601 Midway Road\, Fort Pierce\,
 \, Florida\, 34945\, United States
GEO:27.37357;-80.47254599999997
X-APPLE-STRUCTURED-LOCATION;VALUE=URI;X-ADDRESS=15601 Midway Road\, Fort Pi
 erce\,\, Florida\, 34945\, United States;X-APPLE-RADIUS=100;X-TITLE=Saint 
 Lucie County Fairgrounds:geo:27.37357,-80.47254599999997
END:VEVENT
END:VCALENDAR